BEGIN:VCALENDAR
VERSION:2.0
PRODID:-//Old Lantern Events Barn - ECPv6.15.18//NONSGML v1.0//EN
CALSCALE:GREGORIAN
METHOD:PUBLISH
X-WR-CALNAME:Old Lantern Events Barn
X-ORIGINAL-URL:https://oldlantern.com
X-WR-CALDESC:Events for Old Lantern Events Barn
REFRESH-INTERVAL;VALUE=DURATION:PT1H
X-Robots-Tag:noindex
X-PUBLISHED-TTL:PT1H
BEGIN:VTIMEZONE
TZID:America/New_York
BEGIN:DAYLIGHT
TZOFFSETFROM:-0500
TZOFFSETTO:-0400
TZNAME:EDT
DTSTART:20240310T070000
END:DAYLIGHT
BEGIN:STANDARD
TZOFFSETFROM:-0400
TZOFFSETTO:-0500
TZNAME:EST
DTSTART:20241103T060000
END:STANDARD
BEGIN:DAYLIGHT
TZOFFSETFROM:-0500
TZOFFSETTO:-0400
TZNAME:EDT
DTSTART:20250309T070000
END:DAYLIGHT
BEGIN:STANDARD
TZOFFSETFROM:-0400
TZOFFSETTO:-0500
TZNAME:EST
DTSTART:20251102T060000
END:STANDARD
BEGIN:DAYLIGHT
TZOFFSETFROM:-0500
TZOFFSETTO:-0400
TZNAME:EDT
DTSTART:20260308T070000
END:DAYLIGHT
BEGIN:STANDARD
TZOFFSETFROM:-0400
TZOFFSETTO:-0500
TZNAME:EST
DTSTART:20261101T060000
END:STANDARD
END:VTIMEZONE
BEGIN:VEVENT
DTSTART;VALUE=DATE:20251212
DTEND;VALUE=DATE:20251213
DTSTAMP:20260421T130723
CREATED:20251130T224639Z
LAST-MODIFIED:20251130T224639Z
UID:988791-1765497600-1765583999@oldlantern.com
SUMMARY:Private Event
DESCRIPTION:The Old Lantern is Closed for a Private Event
URL:https://oldlantern.com/calendar/private-event-7/
CATEGORIES:Private
END:VEVENT
BEGIN:VEVENT
DTSTART;VALUE=DATE:20251206
DTEND;VALUE=DATE:20251207
DTSTAMP:20260421T130723
CREATED:20251130T224614Z
LAST-MODIFIED:20251130T224614Z
UID:988792-1764979200-1765065599@oldlantern.com
SUMMARY:Private Event
DESCRIPTION:The Old Lantern is Closed for a Private Event
URL:https://oldlantern.com/calendar/private-event-6/
CATEGORIES:Private
END:VEVENT
BEGIN:VEVENT
DTSTART;VALUE=DATE:20251205
DTEND;VALUE=DATE:20251206
DTSTAMP:20260421T130723
CREATED:20251130T224544Z
LAST-MODIFIED:20251130T224544Z
UID:988789-1764892800-1764979199@oldlantern.com
SUMMARY:Private Event
DESCRIPTION:The Old Lantern is Closed for a Private Event
URL:https://oldlantern.com/calendar/private-event-5/
CATEGORIES:Private
END:VEVENT
END:VCALENDAR